BEGIN:VCALENDAR
VERSION:2.0
PRODID:-//Sabre//Sabre VObject 4.5.8//EN
CALSCALE:GREGORIAN
BEGIN:VEVENT
UID:sabre-vobject-a5763a82-9bf9-4f2b-be7b-2870c3838b47
DTSTAMP:20260420T113729Z
SUMMARY:Lakeside Community Council (LCC) Meeting
DESCRIPTION:
X-ALT-DESC:FMTTYPE=text/html:<!DOCTYPE HTML PUBLIC "-//W3C//DTD HTML 3.2//E
 N"><HTML></HTML>
CREATED;TZID=America/Denver:20230621T142306
URL;VALUE=URI:https://flatheadcounty.gov/county-calendar/calendar-event-det
 ail/lakeside-community-council-lcc
DTSTART;TZID=America/Denver:20230627T190000
DTEND;TZID=America/Denver:20230627T220000
SEQUENCE:0
END:VEVENT
END:VCALENDAR
