BEGIN:VCALENDAR
VERSION:2.0
PRODID:-//Sabre//Sabre VObject 4.5.8//EN
CALSCALE:GREGORIAN
BEGIN:VEVENT
UID:sabre-vobject-d6ac2f58-f8b9-49fb-bfe2-435f1099e38c
DTSTAMP:20260420T113413Z
SUMMARY:Planning Board Workshop
DESCRIPTION:Workshop to immediately follow the regular scheduled Planning B
 oard Meeting.&nbsp\;&nbsp\;\n\nAs always\, the public is encouraged and we
 lcomed to attend.&nbsp\;\n\nPersons with a disability may request a reason
 able accommodation by contacting the Flathead County Planning &amp\; Zonin
 g Office at 406-751-8200 or TTY (800) 335-7592 or call Montana Realy at 71
 1.&nbsp\; Request should be made as early as possible to allow time to arr
 ange the accommodation.\n
X-ALT-DESC:FMTTYPE=text/html:<!DOCTYPE HTML PUBLIC "-//W3C//DTD HTML 3.2//E
 N"><HTML><p><strong>Workshop to immediately follow the regular scheduled P
 lanning Board Meeting.&nbsp\;&nbsp\;</strong></p>\n\n<p><strong>As always\
 , the public is encouraged and welcomed to attend.&nbsp\;</strong></p>\n\n
 <p><em>Persons with a disability may request a reasonable accommodation by
  contacting the Flathead County Planning &amp\; Zoning Office at 406-751-8
 200 or TTY (800) 335-7592 or call Montana Realy at 711.&nbsp\; Request sho
 uld be made as early as possible to allow time to arrange the accommodatio
 n.</em></p>\n</HTML>
CREATED;TZID=America/Denver:20230621T161126
URL;VALUE=URI:https://flatheadcounty.gov/county-calendar/calendar-event-det
 ail/planning-board-workshop
DTSTART;TZID=America/Denver:20230712T180000
DTEND;TZID=America/Denver:20230712T220000
SEQUENCE:0
END:VEVENT
END:VCALENDAR
