BEGIN:VCALENDAR
VERSION:2.0
PRODID:-//Sabre//Sabre VObject 4.5.8//EN
CALSCALE:GREGORIAN
BEGIN:VEVENT
UID:sabre-vobject-ec11d792-b9d3-492b-a546-8376d8523322
DTSTAMP:20260420T113555Z
SUMMARY:Library Policy Committee Meeting
DESCRIPTION:
X-ALT-DESC:FMTTYPE=text/html:<!DOCTYPE HTML PUBLIC "-//W3C//DTD HTML 3.2//E
 N"><HTML></HTML>
CREATED;TZID=America/Denver:20230627T150640
URL;VALUE=URI:https://flatheadcounty.gov/county-calendar/calendar-event-det
 ail/library-policy-committee-meeting
DTSTART;TZID=America/Denver:20230705T110000
DTEND;TZID=America/Denver:20230705T130000
SEQUENCE:0
END:VEVENT
END:VCALENDAR
