BEGIN:VCALENDAR
VERSION:2.0
PRODID:-//Sabre//Sabre VObject 4.5.8//EN
CALSCALE:GREGORIAN
BEGIN:VEVENT
UID:sabre-vobject-69ba9d99-ffd2-4c10-9bb9-0c5e5a012559
DTSTAMP:20260420T081858Z
SUMMARY:Fight Fraud Friday
DESCRIPTION:Information table in the Agency on Aging Dining Room providing 
 fraud prevention info. This month&#39\;s topic is 8 TIps for Avoiding Scam
 s. Includes steps to take if you fall victim to a scam. Our information ta
 ble will have handouts and topic materials. Call 406-758-2471 for more inf
 o.\n
X-ALT-DESC:FMTTYPE=text/html:<!DOCTYPE HTML PUBLIC "-//W3C//DTD HTML 3.2//E
 N"><HTML><p>Information table in the Agency on Aging Dining Room providing
  fraud prevention info. This month&#39\;s topic is 8 TIps for Avoiding Sca
 ms. Includes steps to take if you fall victim to a scam. Our information t
 able will have handouts and topic materials. Call 406-758-2471 for more in
 fo.</p>\n</HTML>
CREATED;TZID=America/Denver:20230705T094910
URL;VALUE=URI:https://flatheadcounty.gov/county-calendar/calendar-event-det
 ail/fight-fraud-friday
DTSTART;TZID=America/Denver:20230714T110000
DTEND;TZID=America/Denver:20230714T133000
SEQUENCE:0
END:VEVENT
END:VCALENDAR
