BEGIN:VCALENDAR
VERSION:2.0
PRODID:-//Sabre//Sabre VObject 4.5.8//EN
CALSCALE:GREGORIAN
BEGIN:VEVENT
UID:sabre-vobject-9c00ed22-a631-4ffd-8ad3-64a3c7c46bfa
DTSTAMP:20260420T082756Z
SUMMARY:Bigfork Land Use Advisory Committee (BLUAC) Meeting
DESCRIPTION:
X-ALT-DESC:FMTTYPE=text/html:<!DOCTYPE HTML PUBLIC "-//W3C//DTD HTML 3.2//E
 N"><HTML></HTML>
CREATED;TZID=America/Denver:20230721T085656
URL;VALUE=URI:https://flatheadcounty.gov/county-calendar/calendar-event-det
 ail/bigfork-land-use-advisory-committee-bluac-meeting-4
DTSTART;TZID=America/Denver:20230727T173000
DTEND;TZID=America/Denver:20230727T183000
SEQUENCE:0
END:VEVENT
END:VCALENDAR
