BEGIN:VCALENDAR
VERSION:2.0
PRODID:-//Sabre//Sabre VObject 4.5.8//EN
CALSCALE:GREGORIAN
BEGIN:VEVENT
UID:sabre-vobject-75da09cf-93cd-4c35-927c-5919f3740a38
DTSTAMP:20260420T080858Z
SUMMARY:Mountain Climber T.A.C meeting
DESCRIPTION:Mountain Climber Transportation Advisory Committee (T.A.C.) for
  Flathead County public transportation\, will meet on December 7 from 2-3:
 30 pm. The meeting will be held in the 2nd floor conference room at the So
 uth Campus building\, 40 11th St. W.\, Kalispell. The public is welcome to
  attend and can provide input during the public comment period.\n
X-ALT-DESC:FMTTYPE=text/html:<!DOCTYPE HTML PUBLIC "-//W3C//DTD HTML 3.2//E
 N"><HTML><p style="margin-bottom:11px"><span style="font-size:11pt"><span 
 style="line-height:107%"><span style="font-family:Calibri\,sans-serif">Mou
 ntain Climber Transportation Advisory Committee (T.A.C.) for Flathead Coun
 ty public transportation\, will meet on December 7 from 2-3:30 pm. The mee
 ting will be held in the 2<sup>nd</sup> floor conference room at the South
  Campus building\, 40 11<sup>th</sup> St. W.\, Kalispell. The public is we
 lcome to attend and can provide input during the public comment period.</s
 pan></span></span></p>\n</HTML>
CREATED;TZID=America/Denver:20230731T133119
URL;VALUE=URI:https://flatheadcounty.gov/county-calendar/calendar-event-det
 ail/mountain-climber-tc-meeting-4
DTSTART;TZID=America/Denver:20230731T133000
DTEND;TZID=America/Denver:20230731T143000
SEQUENCE:0
END:VEVENT
END:VCALENDAR
