BEGIN:VCALENDAR
VERSION:2.0
PRODID:-//Sabre//Sabre VObject 4.5.8//EN
CALSCALE:GREGORIAN
BEGIN:VEVENT
UID:sabre-vobject-11fce413-8ed5-441f-875d-5e9876545757
DTSTAMP:20260420T113459Z
SUMMARY:Weed/Parks & Recreation Board Meeting
DESCRIPTION:
X-ALT-DESC:FMTTYPE=text/html:<!DOCTYPE HTML PUBLIC "-//W3C//DTD HTML 3.2//E
 N"><HTML></HTML>
CREATED;TZID=America/Denver:20230801T085926
URL;VALUE=URI:https://flatheadcounty.gov/county-calendar/calendar-event-det
 ail/weedparks-and-recreation-board-meeting
DTSTART;TZID=America/Denver:20230807T083000
DTEND;TZID=America/Denver:20230807T103000
SEQUENCE:0
END:VEVENT
END:VCALENDAR
