BEGIN:VCALENDAR
VERSION:2.0
PRODID:-//Sabre//Sabre VObject 4.5.8//EN
CALSCALE:GREGORIAN
BEGIN:VEVENT
UID:sabre-vobject-7bd0d4e2-8f9c-47be-b9bd-eac0b0e41c52
DTSTAMP:20260420T113539Z
SUMMARY:Library Board Public Relations Committee Work Session
DESCRIPTION:
X-ALT-DESC:FMTTYPE=text/html:<!DOCTYPE HTML PUBLIC "-//W3C//DTD HTML 3.2//E
 N"><HTML></HTML>
CREATED;TZID=America/Denver:20230801T110056
URL;VALUE=URI:https://flatheadcounty.gov/county-calendar/calendar-event-det
 ail/library-board-public-relations-committee-work-session
DTSTART;TZID=America/Denver:20230810T140000
DTEND;TZID=America/Denver:20230810T160000
SEQUENCE:0
END:VEVENT
END:VCALENDAR
