BEGIN:VCALENDAR
VERSION:2.0
PRODID:-//Sabre//Sabre VObject 4.5.8//EN
CALSCALE:GREGORIAN
BEGIN:VEVENT
UID:sabre-vobject-61a17a75-f26b-4495-9ea1-b1bfdd052844
DTSTAMP:20260420T113540Z
SUMMARY:Glacier Rabbit Show
DESCRIPTION:We are a group of rabbit breeders from Northwest Montana. While
  our goals are to put on ARBA-sanctioned shows in Northwest Montana\, we h
 ope to do so with youth and educational focus for our group. We welcome al
 l to join our group and participate in our events.\n
X-ALT-DESC:FMTTYPE=text/html:<!DOCTYPE HTML PUBLIC "-//W3C//DTD HTML 3.2//E
 N"><HTML><p>We are a group of rabbit breeders from Northwest Montana. Whil
 e our goals are to put on ARBA-sanctioned shows in Northwest Montana\, we 
 hope to do so with youth and educational focus for our group. We welcome a
 ll to join our group and participate in our events.</p>\n</HTML>
CREATED;TZID=America/Denver:20240426T134930
URL;VALUE=URI:https://flatheadcounty.gov/county-calendar/calendar-event-det
 ail/glacier-rabbit-show
DTSTART;TZID=America/Denver:20240427T000000
DTEND;TZID=America/Denver:20240427T235959
SEQUENCE:0
END:VEVENT
END:VCALENDAR
