BEGIN:VCALENDAR
VERSION:2.0
PRODID:-//Sabre//Sabre VObject 4.5.8//EN
CALSCALE:GREGORIAN
BEGIN:VEVENT
UID:sabre-vobject-8996ec47-1281-4108-80d6-6374bc1cb345
DTSTAMP:20260420T113751Z
SUMMARY:EMS Advisory Committee
DESCRIPTION:Meeting of the EMS Advisory Committee. Meeting is held at OES i
 n the EOC at 625 Timberwolf Parkway\, Kalispell.\n\n&nbsp\;\n\nNOTE:&nbsp\
 ;Agenda items subject to change.&nbsp\;\n
X-ALT-DESC:FMTTYPE=text/html:<!DOCTYPE HTML PUBLIC "-//W3C//DTD HTML 3.2//E
 N"><HTML><p>Meeting of the EMS Advisory Committee. Meeting is held at OES 
 in the EOC at 625 Timberwolf Parkway\, Kalispell.</p>\n\n<p>&nbsp\;</p>\n\
 n<p><strong>NOTE:&nbsp\;</strong>Agenda items subject to change.&nbsp\;</p
 >\n</HTML>
CREATED;TZID=America/Denver:20230807T122526
URL;VALUE=URI:https://flatheadcounty.gov/county-calendar/calendar-event-det
 ail/ems-advisory-committee
DTSTART;TZID=America/Denver:20230807T173000
DTEND;TZID=America/Denver:20230807T193000
SEQUENCE:0
END:VEVENT
END:VCALENDAR
