BEGIN:VCALENDAR
VERSION:2.0
PRODID:-//Sabre//Sabre VObject 4.5.8//EN
CALSCALE:GREGORIAN
BEGIN:VEVENT
UID:sabre-vobject-1a3b9042-36b9-46ee-bcb0-0184a4f61c12
DTSTAMP:20260420T113412Z
SUMMARY:Fight Fraud Friday
DESCRIPTION:August 11\, 11:30 am-1:00 pm. Come for lunch in the AOA Dining 
 Room\, 40 11th ST W\, Kalispell and stop by our info table to learn about 
 wrong number scams and how to stop scam texts. We will also have My Medica
 re Tracker booklets available to help you keep medical records.&nbsp\; Cal
 l 758-2471 for more information.\n
X-ALT-DESC:FMTTYPE=text/html:<!DOCTYPE HTML PUBLIC "-//W3C//DTD HTML 3.2//E
 N"><HTML><p>August 11\, 11:30 am-1:00 pm. Come for lunch in the AOA Dining
  Room\, 40 11th ST W\, Kalispell and stop by our info table to learn about
  wrong number scams and how to stop scam texts. We will also have My Medic
 are Tracker booklets available to help you keep medical records.&nbsp\; Ca
 ll 758-2471 for more information.</p>\n</HTML>
CREATED;TZID=America/Denver:20230808T092601
URL;VALUE=URI:https://flatheadcounty.gov/county-calendar/calendar-event-det
 ail/fight-fraud-friday-1
DTSTART;TZID=America/Denver:20230811T113000
DTEND;TZID=America/Denver:20230811T130000
SEQUENCE:0
END:VEVENT
END:VCALENDAR
