BEGIN:VCALENDAR
VERSION:2.0
PRODID:-//Sabre//Sabre VObject 4.5.8//EN
CALSCALE:GREGORIAN
BEGIN:VEVENT
UID:sabre-vobject-88e1081b-fa35-434e-9b92-fa4705695d60
DTSTAMP:20260420T113500Z
SUMMARY:FECC Operations Board Meeting
DESCRIPTION:1PM @ 625 Timberwolf Parkway\n
X-ALT-DESC:FMTTYPE=text/html:<!DOCTYPE HTML PUBLIC "-//W3C//DTD HTML 3.2//E
 N"><HTML><p>1PM @ 625 Timberwolf Parkway</p>\n</HTML>
CREATED;TZID=America/Denver:20230815T104557
URL;VALUE=URI:https://flatheadcounty.gov/county-calendar/calendar-event-det
 ail/flathead-emergency-communications-center
DTSTART;TZID=America/Denver:20230817T130000
DTEND;TZID=America/Denver:20230817T140000
SEQUENCE:0
END:VEVENT
END:VCALENDAR
