BEGIN:VCALENDAR
VERSION:2.0
PRODID:-//Sabre//Sabre VObject 4.5.8//EN
CALSCALE:GREGORIAN
BEGIN:VEVENT
UID:sabre-vobject-f75ad61f-3d6f-423f-9dda-b34e9b391e43
DTSTAMP:20260420T163229Z
SUMMARY:Middle Canyon Land Use Advisory Committee (MCLUAC) 
DESCRIPTION:
X-ALT-DESC:FMTTYPE=text/html:<!DOCTYPE HTML PUBLIC "-//W3C//DTD HTML 3.2//E
 N"><HTML></HTML>
CREATED;TZID=America/Denver:20230821T115249
URL;VALUE=URI:https://flatheadcounty.gov/county-calendar/calendar-event-det
 ail/middle-canyon-land-use-advisory-committee-mcluac
DTSTART;TZID=America/Denver:20230829T190000
DTEND;TZID=America/Denver:20230829T220000
SEQUENCE:0
END:VEVENT
END:VCALENDAR
