BEGIN:VCALENDAR
VERSION:2.0
PRODID:-//Sabre//Sabre VObject 4.5.8//EN
CALSCALE:GREGORIAN
BEGIN:VEVENT
UID:sabre-vobject-42061d7f-1b44-4f3d-9966-a91af6428047
DTSTAMP:20260420T125201Z
SUMMARY:Library Board of Trustees Board Meeting
DESCRIPTION:
X-ALT-DESC:FMTTYPE=text/html:<!DOCTYPE HTML PUBLIC "-//W3C//DTD HTML 3.2//E
 N"><HTML></HTML>
CREATED;TZID=America/Denver:20230818T155939
URL;VALUE=URI:https://flatheadcounty.gov/county-calendar/calendar-event-det
 ail/library-board-trustees-board-meeting-1
DTSTART;TZID=America/Denver:20230824T183000
DTEND;TZID=America/Denver:20230824T210000
SEQUENCE:0
END:VEVENT
END:VCALENDAR
