BEGIN:VCALENDAR
VERSION:2.0
PRODID:-//Sabre//Sabre VObject 4.5.8//EN
CALSCALE:GREGORIAN
BEGIN:VEVENT
UID:sabre-vobject-41e602b0-fe73-4194-8499-1dc11e4afbd9
DTSTAMP:20260420T113411Z
SUMMARY:Fight Fraud Friday
DESCRIPTION:Agency on Aging holds a Fight Fraud Friday on September 8th in 
 the Dining Room 40 11th ST W\, Kalispell. Come by for lunch between 11:30 
 am-1:00 pm and stop by our information table to learn how to protect yours
 elf from check fraud. We will also have tips to help you be alert and avoi
 d medical identity theft during the Medicare Open Enrollment&nbsp\; Period
 . Call 406-758-2471 for more information.\n
X-ALT-DESC:FMTTYPE=text/html:<!DOCTYPE HTML PUBLIC "-//W3C//DTD HTML 3.2//E
 N"><HTML><p>Agency on Aging holds a Fight Fraud Friday on September 8th in
  the Dining Room 40 11th ST W\, Kalispell. Come by for lunch between 11:30
  am-1:00 pm and stop by our information table to learn how to protect your
 self from check fraud. We will also have tips to help you be alert and avo
 id medical identity theft during the Medicare Open Enrollment&nbsp\; Perio
 d. Call 406-758-2471 for more information.</p>\n</HTML>
CREATED;TZID=America/Denver:20230901T132943
URL;VALUE=URI:https://flatheadcounty.gov/county-calendar/calendar-event-det
 ail/fight-fraud-friday-2
DTSTART;TZID=America/Denver:20230908T000000
DTEND;TZID=America/Denver:20230908T130000
SEQUENCE:0
END:VEVENT
END:VCALENDAR
