BEGIN:VCALENDAR
VERSION:2.0
PRODID:-//Sabre//Sabre VObject 4.5.8//EN
CALSCALE:GREGORIAN
BEGIN:VEVENT
UID:sabre-vobject-6c4c0b43-00a3-4a79-a8d6-14c7aa44ca64
DTSTAMP:20260420T125217Z
SUMMARY:Advance Directives Workshop
DESCRIPTION:Logan Health Palliative Care Team provides a supportive and pra
 ctical conversation on advance directives on September 13th in the South C
 ampus Conference Room\, 40 11th ST W\, Kalispell. To register\, call Flath
 ead Co. Agency on Aging at 406-758-2471.\n
X-ALT-DESC:FMTTYPE=text/html:<!DOCTYPE HTML PUBLIC "-//W3C//DTD HTML 3.2//E
 N"><HTML><p>Logan Health Palliative Care Team provides a supportive and pr
 actical conversation on advance directives on September 13th in the South 
 Campus Conference Room\, 40 11th ST W\, Kalispell. To register\, call Flat
 head Co. Agency on Aging at 406-758-2471.</p>\n</HTML>
CREATED;TZID=America/Denver:20230905T162123
URL;VALUE=URI:https://flatheadcounty.gov/county-calendar/calendar-event-det
 ail/advance-directives-workshop
DTSTART;TZID=America/Denver:20230913T103000
DTEND;TZID=America/Denver:20230913T113000
SEQUENCE:0
END:VEVENT
END:VCALENDAR
