BEGIN:VCALENDAR
VERSION:2.0
PRODID:-//Sabre//Sabre VObject 4.5.8//EN
CALSCALE:GREGORIAN
BEGIN:VEVENT
UID:sabre-vobject-44ccd9dc-c2d6-4b68-af67-e994dc63c23d
DTSTAMP:20260420T113918Z
SUMMARY:Library Trustee Public Relations Committee
DESCRIPTION:
X-ALT-DESC:FMTTYPE=text/html:<!DOCTYPE HTML PUBLIC "-//W3C//DTD HTML 3.2//E
 N"><HTML></HTML>
CREATED;TZID=America/Denver:20230912T095934
URL;VALUE=URI:https://flatheadcounty.gov/county-calendar/calendar-event-det
 ail/library-trustee-public-relations-committee
DTSTART;TZID=America/Denver:20230918T000000
DTEND;TZID=America/Denver:20230918T000000
SEQUENCE:0
END:VEVENT
END:VCALENDAR
