BEGIN:VCALENDAR
VERSION:2.0
PRODID:-//Sabre//Sabre VObject 4.5.8//EN
CALSCALE:GREGORIAN
BEGIN:VEVENT
UID:sabre-vobject-f136fd8b-5d5c-497d-ba3a-9950135b8ad1
DTSTAMP:20260420T113726Z
SUMMARY:FECC Operations Board Meeting
DESCRIPTION:FECC Operations Board Meeting&nbsp\;\n\n1:00 PM\n\n625 Timberwo
 lf Parkway\n
X-ALT-DESC:FMTTYPE=text/html:<!DOCTYPE HTML PUBLIC "-//W3C//DTD HTML 3.2//E
 N"><HTML><p>FECC Operations Board Meeting&nbsp\;</p>\n\n<p>1:00 PM</p>\n\n
 <p>625 Timberwolf Parkway</p>\n</HTML>
CREATED;TZID=America/Denver:20230920T114938
URL;VALUE=URI:https://flatheadcounty.gov/county-calendar/calendar-event-det
 ail/fecc-operations-board-meeting-2
DTSTART;TZID=America/Denver:20230921T130000
DTEND;TZID=America/Denver:20230921T140000
SEQUENCE:0
END:VEVENT
END:VCALENDAR
