BEGIN:VCALENDAR
VERSION:2.0
PRODID:-//Sabre//Sabre VObject 4.5.8//EN
CALSCALE:GREGORIAN
BEGIN:VEVENT
UID:sabre-vobject-1f434e30-7b44-402b-93e7-b872c3beb7ff
DTSTAMP:20260420T075945Z
SUMMARY:Library Board of Trustees Policy Committee Work Session
DESCRIPTION:
X-ALT-DESC:FMTTYPE=text/html:<!DOCTYPE HTML PUBLIC "-//W3C//DTD HTML 3.2//E
 N"><HTML></HTML>
CREATED;TZID=America/Denver:20231005T085240
URL;VALUE=URI:https://flatheadcounty.gov/county-calendar/calendar-event-det
 ail/library-board-trustees-policy-committee-work-session
DTSTART;TZID=America/Denver:20231005T100000
DTEND;TZID=America/Denver:20231005T110000
SEQUENCE:0
END:VEVENT
END:VCALENDAR
