BEGIN:VCALENDAR
VERSION:2.0
PRODID:-//Sabre//Sabre VObject 4.5.8//EN
CALSCALE:GREGORIAN
BEGIN:VEVENT
UID:sabre-vobject-16698b51-ace8-488b-86c6-8bf6086f47a1
DTSTAMP:20260422T093719Z
SUMMARY:Middle Canyon Land Use Advisory Committee (MCLUAC) Meeting
DESCRIPTION:
X-ALT-DESC:FMTTYPE=text/html:<!DOCTYPE HTML PUBLIC "-//W3C//DTD HTML 3.2//E
 N"><HTML></HTML>
CREATED;TZID=America/Denver:20231016T144018
URL;VALUE=URI:https://flatheadcounty.gov/county-calendar/calendar-event-det
 ail/middle-canyon-land-use-advisory-committee-mcluac-meeting-2
DTSTART;TZID=America/Denver:20231024T180000
DTEND;TZID=America/Denver:20231024T220000
SEQUENCE:0
END:VEVENT
END:VCALENDAR
