BEGIN:VCALENDAR
VERSION:2.0
PRODID:-//Sabre//Sabre VObject 4.5.8//EN
CALSCALE:GREGORIAN
BEGIN:VEVENT
UID:sabre-vobject-0f5bdb24-1cae-444f-ae7b-56f526d44419
DTSTAMP:20260420T083719Z
SUMMARY:Bigfork Land Use Advisory Committee (BLUAC) Meeting
DESCRIPTION:
X-ALT-DESC:FMTTYPE=text/html:<!DOCTYPE HTML PUBLIC "-//W3C//DTD HTML 3.2//E
 N"><HTML></HTML>
CREATED;TZID=America/Denver:20231016T153910
URL;VALUE=URI:https://flatheadcounty.gov/county-calendar/calendar-event-det
 ail/bigfork-land-use-advisory-committee-bluac-meeting-6
DTSTART;TZID=America/Denver:20231026T160000
DTEND;TZID=America/Denver:20231026T190000
SEQUENCE:0
END:VEVENT
END:VCALENDAR
