BEGIN:VCALENDAR
VERSION:2.0
PRODID:-//Sabre//Sabre VObject 4.5.8//EN
CALSCALE:GREGORIAN
BEGIN:VEVENT
UID:sabre-vobject-581f9a29-b5b1-42bb-ad2a-fd31aef2af23
DTSTAMP:20260420T080316Z
SUMMARY:FECC Operations Board Meeting
DESCRIPTION:FECC Operations Board Meeting\n
X-ALT-DESC:FMTTYPE=text/html:<!DOCTYPE HTML PUBLIC "-//W3C//DTD HTML 3.2//E
 N"><HTML><p>FECC Operations Board Meeting</p>\n</HTML>
CREATED;TZID=America/Denver:20231012T084726
URL;VALUE=URI:https://flatheadcounty.gov/county-calendar/calendar-event-det
 ail/fecc-operations-board-meeting-3
DTSTART;TZID=America/Denver:20231019T130000
DTEND;TZID=America/Denver:20231019T140000
SEQUENCE:0
END:VEVENT
END:VCALENDAR
