BEGIN:VCALENDAR
VERSION:2.0
PRODID:-//Sabre//Sabre VObject 4.5.8//EN
CALSCALE:GREGORIAN
BEGIN:VEVENT
UID:sabre-vobject-09276702-c131-4fc0-b5d8-89d1d2ab0b43
DTSTAMP:20260420T113917Z
SUMMARY:Public Transportation Annual Meeting
DESCRIPTION:Mountain Climber Flathead County Public Transportation will be 
 holding their Annual Public Meeting on November 16th.&nbsp\; This year we 
 will have three meeting times to create more opportunity for public commen
 ts.&nbsp\; We welcome anyone interested in public transportation to join u
 s at one of these meetings. Learn how we currently operate public transpor
 tation in Flathead County\, how we operated in the past and what our futur
 e plans are.&nbsp\; We want to answer your questions\, as well as hear you
 r thoughts and feedback.&nbsp\; Meeting times on the 16th will be: 10:00-1
 1:30\, 2:00-3:30\, and 5:30-7:00. Meetings will be held at the County Sout
 h Campus Building located at 40 11th St West\, Kalispell. For more informa
 tion please call (406) 758-2130 \n
X-ALT-DESC:FMTTYPE=text/html:<!DOCTYPE HTML PUBLIC "-//W3C//DTD HTML 3.2//E
 N"><HTML><p><span style="font-size:11pt"><span style="font-family:Calibri\
 ,sans-serif">Mountain Climber Flathead County Public Transportation will b
 e holding their Annual Public Meeting on November 16<sup>th</sup>.&nbsp\; 
 This year we will have three meeting times to create more opportunity for 
 public comments.&nbsp\; We welcome anyone interested in public transportat
 ion to join us at one of these meetings. Learn how we currently operate pu
 blic transportation in Flathead County\, how we operated in the past and w
 hat our future plans are.&nbsp\; We want to answer your questions\, as wel
 l as hear your thoughts and feedback.&nbsp\; Meeting times on the 16<sup>t
 h</sup> will be: 10:00-11:30\, 2:00-3:30\, and 5:30-7:00. Meetings will be
  held at the County South Campus Building located at 40 11<sup>th</sup> St
  West\, Kalispell. For more information please call (406) 758-2130 </span>
 </span></p>\n</HTML>
CREATED;TZID=America/Denver:20231016T135326
URL;VALUE=URI:https://flatheadcounty.gov/county-calendar/calendar-event-det
 ail/public-transportation-annual-meeting
DTSTART;TZID=America/Denver:20231016T100000
DTEND;TZID=America/Denver:20231016T113000
SEQUENCE:0
END:VEVENT
BEGIN:VEVENT
UID:sabre-vobject-794523c0-37a0-4bc6-89b4-61fda6aae03c
DTSTAMP:20260420T113917Z
SUMMARY:Public Transportation Annual Meeting
DESCRIPTION:Mountain Climber Flathead County Public Transportation will be 
 holding their Annual Public Meeting on November 16th.&nbsp\; This year we 
 will have three meeting times to create more opportunity for public commen
 ts.&nbsp\; We welcome anyone interested in public transportation to join u
 s at one of these meetings. Learn how we currently operate public transpor
 tation in Flathead County\, how we operated in the past and what our futur
 e plans are.&nbsp\; We want to answer your questions\, as well as hear you
 r thoughts and feedback.&nbsp\; Meeting times on the 16th will be: 10:00-1
 1:30\, 2:00-3:30\, and 5:30-7:00. Meetings will be held at the County Sout
 h Campus Building located at 40 11th St West\, Kalispell. For more informa
 tion please call (406) 758-2130 \n
X-ALT-DESC:FMTTYPE=text/html:<!DOCTYPE HTML PUBLIC "-//W3C//DTD HTML 3.2//E
 N"><HTML><p><span style="font-size:11pt"><span style="font-family:Calibri\
 ,sans-serif">Mountain Climber Flathead County Public Transportation will b
 e holding their Annual Public Meeting on November 16<sup>th</sup>.&nbsp\; 
 This year we will have three meeting times to create more opportunity for 
 public comments.&nbsp\; We welcome anyone interested in public transportat
 ion to join us at one of these meetings. Learn how we currently operate pu
 blic transportation in Flathead County\, how we operated in the past and w
 hat our future plans are.&nbsp\; We want to answer your questions\, as wel
 l as hear your thoughts and feedback.&nbsp\; Meeting times on the 16<sup>t
 h</sup> will be: 10:00-11:30\, 2:00-3:30\, and 5:30-7:00. Meetings will be
  held at the County South Campus Building located at 40 11<sup>th</sup> St
  West\, Kalispell. For more information please call (406) 758-2130 </span>
 </span></p>\n</HTML>
CREATED;TZID=America/Denver:20231016T135326
URL;VALUE=URI:https://flatheadcounty.gov/county-calendar/calendar-event-det
 ail/public-transportation-annual-meeting
DTSTART;TZID=America/Denver:20231016T140000
DTEND;TZID=America/Denver:20231016T153000
SEQUENCE:1
END:VEVENT
BEGIN:VEVENT
UID:sabre-vobject-a428985e-972e-44cf-a66b-4097ba0767e7
DTSTAMP:20260420T113917Z
SUMMARY:Public Transportation Annual Meeting
DESCRIPTION:Mountain Climber Flathead County Public Transportation will be 
 holding their Annual Public Meeting on November 16th.&nbsp\; This year we 
 will have three meeting times to create more opportunity for public commen
 ts.&nbsp\; We welcome anyone interested in public transportation to join u
 s at one of these meetings. Learn how we currently operate public transpor
 tation in Flathead County\, how we operated in the past and what our futur
 e plans are.&nbsp\; We want to answer your questions\, as well as hear you
 r thoughts and feedback.&nbsp\; Meeting times on the 16th will be: 10:00-1
 1:30\, 2:00-3:30\, and 5:30-7:00. Meetings will be held at the County Sout
 h Campus Building located at 40 11th St West\, Kalispell. For more informa
 tion please call (406) 758-2130 \n
X-ALT-DESC:FMTTYPE=text/html:<!DOCTYPE HTML PUBLIC "-//W3C//DTD HTML 3.2//E
 N"><HTML><p><span style="font-size:11pt"><span style="font-family:Calibri\
 ,sans-serif">Mountain Climber Flathead County Public Transportation will b
 e holding their Annual Public Meeting on November 16<sup>th</sup>.&nbsp\; 
 This year we will have three meeting times to create more opportunity for 
 public comments.&nbsp\; We welcome anyone interested in public transportat
 ion to join us at one of these meetings. Learn how we currently operate pu
 blic transportation in Flathead County\, how we operated in the past and w
 hat our future plans are.&nbsp\; We want to answer your questions\, as wel
 l as hear your thoughts and feedback.&nbsp\; Meeting times on the 16<sup>t
 h</sup> will be: 10:00-11:30\, 2:00-3:30\, and 5:30-7:00. Meetings will be
  held at the County South Campus Building located at 40 11<sup>th</sup> St
  West\, Kalispell. For more information please call (406) 758-2130 </span>
 </span></p>\n</HTML>
CREATED;TZID=America/Denver:20231016T135326
URL;VALUE=URI:https://flatheadcounty.gov/county-calendar/calendar-event-det
 ail/public-transportation-annual-meeting
DTSTART;TZID=America/Denver:20231016T173000
DTEND;TZID=America/Denver:20231016T190000
SEQUENCE:2
END:VEVENT
END:VCALENDAR
