BEGIN:VCALENDAR
VERSION:2.0
PRODID:-//Sabre//Sabre VObject 4.5.8//EN
CALSCALE:GREGORIAN
BEGIN:VEVENT
UID:sabre-vobject-19efcac5-b3ed-427b-8d8b-041879ed60a3
DTSTAMP:20260420T113900Z
SUMMARY:Planning Board Workshop
DESCRIPTION:Workshop to immediately follow the regular scheduled Planning B
 oard Meeting.&nbsp\;\n\nAs always\, the public is encouraged and welcomed 
 to attend.&nbsp\;\n\nPersons with a disability may request a reasonable ac
 commodation by contracting the Flathead County Planning &amp\; Zoning Offi
 ce at 406-751-8200 or TTY (800) 335-7592 or call Montana Relay at 711.&nbs
 p\; Request should be made as early as possible to allow time to arrange t
 he accommodation.&nbsp\;&nbsp\;\n
X-ALT-DESC:FMTTYPE=text/html:<!DOCTYPE HTML PUBLIC "-//W3C//DTD HTML 3.2//E
 N"><HTML><p><strong>Workshop to immediately follow the regular scheduled P
 lanning Board Meeting.&nbsp\;</strong></p>\n\n<p><b>As always\, the public
  is encouraged and welcomed to attend.&nbsp\;</b></p>\n\n<p><em>Persons wi
 th a disability may request a reasonable accommodation by contracting the 
 Flathead County Planning &amp\; Zoning Office at 406-751-8200 or TTY (800)
  335-7592 or call Montana Relay at 711.&nbsp\; Request should be made as e
 arly as possible to allow time to arrange the accommodation.&nbsp\;&nbsp\;
 </em></p>\n</HTML>
CREATED;TZID=America/Denver:20231025T101615
URL;VALUE=URI:https://flatheadcounty.gov/county-calendar/calendar-event-det
 ail/planning-board-workshop-5
DTSTART;TZID=America/Denver:20231108T180000
DTEND;TZID=America/Denver:20231108T220000
SEQUENCE:0
END:VEVENT
END:VCALENDAR
