BEGIN:VCALENDAR
VERSION:2.0
PRODID:-//Sabre//Sabre VObject 4.5.8//EN
CALSCALE:GREGORIAN
BEGIN:VEVENT
UID:sabre-vobject-1cdc2e35-eada-4689-bb19-76dd4feceaaf
DTSTAMP:20260422T094257Z
SUMMARY:AOA Advisory Council Meeting
DESCRIPTION:Flathead County Agency on Aging Advisory Council meets 2:00-3:3
 0 pm in the South Campus Conference Room. Address is 40 11th St W\, Kalisp
 ell. Public is welcome. For more information\, please call 406-758-5730.\n
X-ALT-DESC:FMTTYPE=text/html:<!DOCTYPE HTML PUBLIC "-//W3C//DTD HTML 3.2//E
 N"><HTML><p>Flathead County Agency on Aging Advisory Council meets 2:00-3:
 30 pm in the South Campus Conference Room. Address is 40 11th St W\, Kalis
 pell. Public is welcome. For more information\, please call 406-758-5730.<
 /p>\n</HTML>
CREATED;TZID=America/Denver:20231030T102629
URL;VALUE=URI:https://flatheadcounty.gov/county-calendar/calendar-event-det
 ail/aoa-advisory-council-meeting-1
DTSTART;TZID=America/Denver:20231109T140000
DTEND;TZID=America/Denver:20231109T153000
SEQUENCE:0
END:VEVENT
END:VCALENDAR
