BEGIN:VCALENDAR
VERSION:2.0
PRODID:-//Sabre//Sabre VObject 4.5.8//EN
CALSCALE:GREGORIAN
BEGIN:VEVENT
UID:sabre-vobject-afcdd82b-a0b0-4f4f-b864-5845f2061421
DTSTAMP:20260420T113411Z
SUMMARY:FECC Operations Board Meeting
DESCRIPTION:FECC Operations Board Meeting\n\n&nbsp\;\n
X-ALT-DESC:FMTTYPE=text/html:<!DOCTYPE HTML PUBLIC "-//W3C//DTD HTML 3.2//E
 N"><HTML><p>FECC Operations Board Meeting</p>\n\n<p>&nbsp\;</p>\n</HTML>
CREATED;TZID=America/Denver:20231113T125255
URL;VALUE=URI:https://flatheadcounty.gov/county-calendar/calendar-event-det
 ail/fecc-operations-board-meeting-4
DTSTART;TZID=America/Denver:20231116T130000
DTEND;TZID=America/Denver:20231116T140000
SEQUENCE:0
END:VEVENT
END:VCALENDAR
