BEGIN:VCALENDAR
VERSION:2.0
PRODID:-//Sabre//Sabre VObject 4.5.8//EN
CALSCALE:GREGORIAN
BEGIN:VEVENT
UID:sabre-vobject-1e751a40-e832-4872-91cc-b7124f171827
DTSTAMP:20260420T115035Z
SUMMARY:Artists and Craftsmen of the Flathead Christmas Show
DESCRIPTION:
X-ALT-DESC:FMTTYPE=text/html:<!DOCTYPE HTML PUBLIC "-//W3C//DTD HTML 3.2//E
 N"><HTML></HTML>
CREATED;TZID=America/Denver:20231122T140626
URL;VALUE=URI:https://flatheadcounty.gov/county-calendar/calendar-event-det
 ail/artist-and-craftsmen-flathead-christmas-show
DTSTART;TZID=America/Denver:20231124T100000
DTEND;TZID=America/Denver:20231124T170000
SEQUENCE:0
END:VEVENT
BEGIN:VEVENT
UID:sabre-vobject-8211d4e2-a3d6-4de2-b25c-9667200923c4
DTSTAMP:20260420T115035Z
SUMMARY:Artists and Craftsmen of the Flathead Christmas Show
DESCRIPTION:
X-ALT-DESC:FMTTYPE=text/html:<!DOCTYPE HTML PUBLIC "-//W3C//DTD HTML 3.2//E
 N"><HTML></HTML>
CREATED;TZID=America/Denver:20231122T140626
URL;VALUE=URI:https://flatheadcounty.gov/county-calendar/calendar-event-det
 ail/artist-and-craftsmen-flathead-christmas-show
DTSTART;TZID=America/Denver:20231125T100000
DTEND;TZID=America/Denver:20231125T170000
SEQUENCE:1
END:VEVENT
BEGIN:VEVENT
UID:sabre-vobject-526c52a1-b971-4c66-8f80-006215209198
DTSTAMP:20260420T115035Z
SUMMARY:Artists and Craftsmen of the Flathead Christmas Show
DESCRIPTION:
X-ALT-DESC:FMTTYPE=text/html:<!DOCTYPE HTML PUBLIC "-//W3C//DTD HTML 3.2//E
 N"><HTML></HTML>
CREATED;TZID=America/Denver:20231122T140626
URL;VALUE=URI:https://flatheadcounty.gov/county-calendar/calendar-event-det
 ail/artist-and-craftsmen-flathead-christmas-show
DTSTART;TZID=America/Denver:20231126T100000
DTEND;TZID=America/Denver:20231126T160000
SEQUENCE:2
END:VEVENT
END:VCALENDAR
