BEGIN:VCALENDAR
VERSION:2.0
PRODID:-//Sabre//Sabre VObject 4.5.8//EN
CALSCALE:GREGORIAN
BEGIN:VEVENT
UID:sabre-vobject-e73faab0-9005-4960-9129-09424d076a5c
DTSTAMP:20260420T113749Z
SUMMARY:Flathead Valley Ladies Night Out- RMEF Fundraiser
DESCRIPTION:
X-ALT-DESC:FMTTYPE=text/html:<!DOCTYPE HTML PUBLIC "-//W3C//DTD HTML 3.2//E
 N"><HTML></HTML>
CREATED;TZID=America/Denver:20231122T142409
URL;VALUE=URI:https://flatheadcounty.gov/county-calendar/calendar-event-det
 ail/flathead-valley-ladies-night-out-rmef-fundraiser
DTSTART;TZID=America/Denver:20231209T170000
DTEND;TZID=America/Denver:20231209T210000
SEQUENCE:0
END:VEVENT
END:VCALENDAR
