BEGIN:VCALENDAR
VERSION:2.0
PRODID:-//Sabre//Sabre VObject 4.5.8//EN
CALSCALE:GREGORIAN
BEGIN:VEVENT
UID:sabre-vobject-c2e2d634-df92-4828-ad14-6c890762942d
DTSTAMP:20260420T113917Z
SUMMARY:Planning Board Workshop
DESCRIPTION:Workshop to immediately follow the regular scheduled Planning B
 oard Meeting.&nbsp\;\n\nAs always\, the public is encouraged and welcome t
 o attend.&nbsp\;\n\nPersons with a disability may request a reasonable acc
 ommodation by contacting the Flathead County Planning &amp\; Zoning Office
  at 406-751-8200 or TTY 800-335-7592 or call Montana Relay at 711.&nbsp\; 
 Request should be made as early as possible to allow time to arrange the a
 ccommodation.&nbsp\;\n
X-ALT-DESC:FMTTYPE=text/html:<!DOCTYPE HTML PUBLIC "-//W3C//DTD HTML 3.2//E
 N"><HTML><p><strong>Workshop to immediately follow the regular scheduled P
 lanning Board Meeting.&nbsp\;</strong></p>\n\n<p><strong>As always\, the p
 ublic is encouraged and welcome to attend.&nbsp\;</strong></p>\n\n<p><em>P
 ersons with a disability may request a reasonable accommodation by contact
 ing the Flathead County Planning &amp\; Zoning Office at 406-751-8200 or T
 TY 800-335-7592 or call Montana Relay at 711.&nbsp\; Request should be mad
 e as early as possible to allow time to arrange the accommodation.</em>&nb
 sp\;</p>\n</HTML>
CREATED;TZID=America/Denver:20231128T153510
URL;VALUE=URI:https://flatheadcounty.gov/county-calendar/calendar-event-det
 ail/planning-board-workshop-6
DTSTART;TZID=America/Denver:20231213T180000
DTEND;TZID=America/Denver:20231213T220000
SEQUENCE:0
END:VEVENT
END:VCALENDAR
