BEGIN:VCALENDAR
VERSION:2.0
PRODID:-//Sabre//Sabre VObject 4.5.8//EN
CALSCALE:GREGORIAN
BEGIN:VEVENT
UID:sabre-vobject-4a9df599-3a66-49db-8def-e642d49b6ee5
DTSTAMP:20260420T113416Z
SUMMARY:Cancelled - Solid Waste Board December Meeting
DESCRIPTION:The December Solid Waste Board meeting has been cancelled.&nbsp
 \; Next meeting will be January 23\, 2024 @ 3 p.m. at the Solid Waste offi
 ce.&nbsp\;\n
X-ALT-DESC:FMTTYPE=text/html:<!DOCTYPE HTML PUBLIC "-//W3C//DTD HTML 3.2//E
 N"><HTML><p>The December Solid Waste Board meeting has been cancelled.&nbs
 p\; Next meeting will be January 23\, 2024 @ 3 p.m. at the Solid Waste off
 ice.&nbsp\;</p>\n</HTML>
CREATED;TZID=America/Denver:20231214T092559
URL;VALUE=URI:https://flatheadcounty.gov/county-calendar/calendar-event-det
 ail/cancelled-solid-waste-board-december-meeting
DTSTART;TZID=America/Denver:20231226T150000
DTEND;TZID=America/Denver:20231226T160000
SEQUENCE:0
END:VEVENT
END:VCALENDAR
