BEGIN:VCALENDAR
VERSION:2.0
PRODID:-//Sabre//Sabre VObject 4.5.8//EN
CALSCALE:GREGORIAN
BEGIN:VEVENT
UID:sabre-vobject-9f527198-c308-404f-943c-107d989c9057
DTSTAMP:20260420T113415Z
SUMMARY:Solid Waste Board Meeting
DESCRIPTION:The Flathead County Solid Waste Board Meeting will be held at 3
  p.m. at the Solid Waste Office\n
X-ALT-DESC:FMTTYPE=text/html:<!DOCTYPE HTML PUBLIC "-//W3C//DTD HTML 3.2//E
 N"><HTML><p>The Flathead County Solid Waste Board Meeting will be held at 
 3 p.m. at the Solid Waste Office</p>\n</HTML>
CREATED;TZID=America/Denver:20231214T092431
URL;VALUE=URI:https://flatheadcounty.gov/county-calendar/calendar-event-det
 ail/solid-waste-board-meeting-1
DTSTART;TZID=America/Denver:20231128T150000
DTEND;TZID=America/Denver:20231128T160000
SEQUENCE:0
END:VEVENT
END:VCALENDAR
