BEGIN:VCALENDAR
VERSION:2.0
PRODID:-//Sabre//Sabre VObject 4.5.8//EN
CALSCALE:GREGORIAN
BEGIN:VEVENT
UID:sabre-vobject-2deee666-1c2a-424f-9e25-d501e95f7b72
DTSTAMP:20260420T113647Z
SUMMARY:Flathead Elder Hub
DESCRIPTION:We invite older adults and those in their lives to attend this 
 important community conversation about coping with Dementia During the Hol
 idays. December 21 at 10 am. Guest Speaker: Jennifer Crowley\, Eagleview W
 est Life Care Planning. South Campus Conference Room\, 40 11th St W\, Kali
 spell. Door Prizes and Refreshments provided. Call 406-575-6257 for more d
 etails.&nbsp\;\n
X-ALT-DESC:FMTTYPE=text/html:<!DOCTYPE HTML PUBLIC "-//W3C//DTD HTML 3.2//E
 N"><HTML><p>We invite older adults and those in their lives to attend this
  important community conversation about coping with Dementia During the Ho
 lidays. December 21 at 10 am. Guest Speaker: Jennifer Crowley\, Eagleview 
 West Life Care Planning. South Campus Conference Room\, 40 11th St W\, Kal
 ispell. Door Prizes and Refreshments provided. Call 406-575-6257 for more 
 details.&nbsp\;</p>\n</HTML>
CREATED;TZID=America/Denver:20231204T172706
URL;VALUE=URI:https://flatheadcounty.gov/county-calendar/calendar-event-det
 ail/flathead-elder-hub
DTSTART;TZID=America/Denver:20231221T100000
DTEND;TZID=America/Denver:20231221T110000
SEQUENCE:0
END:VEVENT
END:VCALENDAR
