BEGIN:VCALENDAR
VERSION:2.0
PRODID:-//Sabre//Sabre VObject 4.5.8//EN
CALSCALE:GREGORIAN
BEGIN:VEVENT
UID:sabre-vobject-c16babe9-550f-4a94-b7e2-330336c6ad2a
DTSTAMP:20260420T113729Z
SUMMARY:Fight Fraud Friday
DESCRIPTION:Come to the AOA Dining Room during lunch on December 15th and s
 top by our information table. We will have helpful tools for understanding
  your medical billing statements and information about current Medicare fr
 aud schemes. Call (406) 758-2471 for more information.\n
X-ALT-DESC:FMTTYPE=text/html:<!DOCTYPE HTML PUBLIC "-//W3C//DTD HTML 3.2//E
 N"><HTML><p>Come to the AOA Dining Room during lunch on December 15th and 
 stop by our information table. We will have helpful tools for understandin
 g your medical billing statements and information about current Medicare f
 raud schemes. Call (406) 758-2471 for more information.</p>\n</HTML>
CREATED;TZID=America/Denver:20231211T163933
URL;VALUE=URI:https://flatheadcounty.gov/county-calendar/calendar-event-det
 ail/fight-fraud-friday-7
DTSTART;TZID=America/Denver:20231215T000000
DTEND;TZID=America/Denver:20231215T130000
SEQUENCE:0
END:VEVENT
END:VCALENDAR
