BEGIN:VCALENDAR
VERSION:2.0
PRODID:-//Sabre//Sabre VObject 4.5.8//EN
CALSCALE:GREGORIAN
BEGIN:VEVENT
UID:sabre-vobject-e1da1ac3-c947-4ef2-8639-76a8d626e6c1
DTSTAMP:20260420T083618Z
SUMMARY:West Valley Land Use Advisory Committee (WV LUAC) Meeting
DESCRIPTION:
X-ALT-DESC:FMTTYPE=text/html:<!DOCTYPE HTML PUBLIC "-//W3C//DTD HTML 3.2//E
 N"><HTML></HTML>
CREATED;TZID=America/Denver:20231221T082637
URL;VALUE=URI:https://flatheadcounty.gov/county-calendar/calendar-event-det
 ail/west-valley-land-use-advisory-committee-wv-luac-meeting-3
DTSTART;TZID=America/Denver:20231226T180000
DTEND;TZID=America/Denver:20231226T220000
SEQUENCE:0
END:VEVENT
END:VCALENDAR
