BEGIN:VCALENDAR
VERSION:2.0
PRODID:-//Sabre//Sabre VObject 4.5.8//EN
CALSCALE:GREGORIAN
BEGIN:VEVENT
UID:sabre-vobject-ee474e98-0613-4a72-8b2b-5cdec46b9047
DTSTAMP:20260420T113556Z
SUMMARY:Planning Board Workshop
DESCRIPTION:This Workshop will be an open discussion with the Flathead Coun
 ty Planning Board regarding Zoning Regulations.&nbsp\; Main topic: providi
 ng more affordable housing by allowing more housing choices within the cur
 rent Zoning Regulations.&nbsp\;&nbsp\;\n\nMembers of the public should hav
 e ideas to improve the Zoning Regulations such as revisions on parking req
 uirements\, setbacks\, height restrictions\, and the number of permitted d
 wellings in certain zones.&nbsp\;&nbsp\;\n\nThis meeting will immediately 
 follow our regular scheduled Planning Board Meeting.&nbsp\;\n
X-ALT-DESC:FMTTYPE=text/html:<!DOCTYPE HTML PUBLIC "-//W3C//DTD HTML 3.2//E
 N"><HTML><p>This Workshop will be an open discussion with the Flathead Cou
 nty Planning Board regarding Zoning Regulations.&nbsp\; Main topic: provid
 ing more affordable housing by allowing more housing choices within the cu
 rrent Zoning Regulations.&nbsp\;&nbsp\;</p>\n\n<p>Members of the public sh
 ould have ideas to improve the Zoning Regulations such as revisions on par
 king requirements\, setbacks\, height restrictions\, and the number of per
 mitted dwellings in certain zones.&nbsp\;&nbsp\;</p>\n\n<p>This meeting wi
 ll immediately follow our regular scheduled Planning Board Meeting.&nbsp\;
 </p>\n</HTML>
CREATED;TZID=America/Denver:20231227T111408
URL;VALUE=URI:https://flatheadcounty.gov/county-calendar/calendar-event-det
 ail/planning-board-workshop-7
DTSTART;TZID=America/Denver:20240110T180000
DTEND;TZID=America/Denver:20240110T230000
SEQUENCE:0
END:VEVENT
END:VCALENDAR
