BEGIN:VCALENDAR
VERSION:2.0
PRODID:-//Sabre//Sabre VObject 4.5.8//EN
CALSCALE:GREGORIAN
BEGIN:VEVENT
UID:sabre-vobject-8d15619f-f272-4e92-8e9d-127dce2deb26
DTSTAMP:20260420T113540Z
SUMMARY:AOA Advisory Council Meeting
DESCRIPTION:The Agency on Aging Advisory Council meets Thursday\, January 1
 1\, from 2:00-3:30 pm in the South Campus Conference Room. Address is 40 1
 1th ST W\, Kalispell\, Please call 406-758-5730 for more information.\n
X-ALT-DESC:FMTTYPE=text/html:<!DOCTYPE HTML PUBLIC "-//W3C//DTD HTML 3.2//E
 N"><HTML><p>The Agency on Aging Advisory Council meets Thursday\, January 
 11\, from 2:00-3:30 pm in the South Campus Conference Room. Address is 40 
 11th ST W\, Kalispell\, Please call 406-758-5730 for more information.</p>
 \n</HTML>
CREATED;TZID=America/Denver:20231228T154239
URL;VALUE=URI:https://flatheadcounty.gov/county-calendar/calendar-event-det
 ail/aoa-advisory-council-meeting-4
DTSTART;TZID=America/Denver:20240111T140000
DTEND;TZID=America/Denver:20240111T153000
SEQUENCE:0
END:VEVENT
END:VCALENDAR
