BEGIN:VCALENDAR
VERSION:2.0
PRODID:-//Sabre//Sabre VObject 4.5.8//EN
CALSCALE:GREGORIAN
BEGIN:VEVENT
UID:sabre-vobject-51051b24-f102-4738-af03-4ee3bfaacafc
DTSTAMP:20260420T081202Z
SUMMARY:Closed - Landfill and Container Sites
DESCRIPTION:The Landfill and Container Sites will be closed on Memorial Day
 .&nbsp\; Operations will resume tomorrow.&nbsp\;\n
X-ALT-DESC:FMTTYPE=text/html:<!DOCTYPE HTML PUBLIC "-//W3C//DTD HTML 3.2//E
 N"><HTML><p>The Landfill and Container Sites will be closed on Memorial Da
 y.&nbsp\; Operations will resume tomorrow.&nbsp\;</p>\n</HTML>
CREATED;TZID=America/Denver:20240102T153810
URL;VALUE=URI:https://flatheadcounty.gov/county-calendar/calendar-event-det
 ail/closed-landfill-and-container-sites-2
DTSTART;TZID=America/Denver:20240527T000000
DTEND;TZID=America/Denver:20240527T235959
SEQUENCE:0
END:VEVENT
END:VCALENDAR
