BEGIN:VCALENDAR
VERSION:2.0
PRODID:-//Sabre//Sabre VObject 4.5.8//EN
CALSCALE:GREGORIAN
BEGIN:VEVENT
UID:sabre-vobject-fe168251-dd58-4c2f-ac1c-b3435cf4200d
DTSTAMP:20260420T113748Z
SUMMARY:Fight Fraud Friday
DESCRIPTION:This month&#39\;s topic is Six Top Scams to Watch Out for in 20
 24. Stop by our info table in the Dining Room on January 19th and find out
  how to avoid becoming a victim of fraud. We will also have Medicare fraud
  prevention materials. Call (406) 758-2471 for more information.\n
X-ALT-DESC:FMTTYPE=text/html:<!DOCTYPE HTML PUBLIC "-//W3C//DTD HTML 3.2//E
 N"><HTML><p>This month&#39\;s topic is Six Top Scams to Watch Out for in 2
 024. Stop by our info table in the Dining Room on January 19th and find ou
 t how to avoid becoming a victim of fraud. We will also have Medicare frau
 d prevention materials. Call (406) 758-2471 for more information.</p>\n</H
 TML>
CREATED;TZID=America/Denver:20240104T112212
URL;VALUE=URI:https://flatheadcounty.gov/county-calendar/calendar-event-det
 ail/fight-fraud-friday-8
DTSTART;TZID=America/Denver:20240119T113000
DTEND;TZID=America/Denver:20240119T130000
SEQUENCE:0
END:VEVENT
END:VCALENDAR
