BEGIN:VCALENDAR
VERSION:2.0
PRODID:-//Sabre//Sabre VObject 4.5.8//EN
CALSCALE:GREGORIAN
BEGIN:VEVENT
UID:sabre-vobject-d3c8a213-61ca-43ef-b280-8f46320d5a3b
DTSTAMP:20260420T125136Z
SUMMARY:Agency on Aging Dining Room Closed
DESCRIPTION:Due to expected extreme weather\, the AOA Dining Room is closed
  on Friday\, January 12th.&nbsp\; For more information\, (406) 758-5730.\n
X-ALT-DESC:FMTTYPE=text/html:<!DOCTYPE HTML PUBLIC "-//W3C//DTD HTML 3.2//E
 N"><HTML><p>Due to expected extreme weather\, the AOA Dining Room is close
 d on Friday\, January 12th.&nbsp\; For more information\, (406) 758-5730.<
 /p>\n</HTML>
CREATED;TZID=America/Denver:20240110T113716
URL;VALUE=URI:https://flatheadcounty.gov/county-calendar/calendar-event-det
 ail/agency-aging-dining-room
DTSTART;TZID=America/Denver:20240112T113000
DTEND;TZID=America/Denver:20240112T130000
SEQUENCE:0
END:VEVENT
END:VCALENDAR
