BEGIN:VCALENDAR
VERSION:2.0
PRODID:-//Sabre//Sabre VObject 4.5.8//EN
CALSCALE:GREGORIAN
BEGIN:VEVENT
UID:sabre-vobject-e2fbf99b-f1a0-4f78-9d2c-a9c9659ea886
DTSTAMP:20260420T113941Z
SUMMARY:Weed/Parks & Recreation Board Meeting
DESCRIPTION:
X-ALT-DESC:FMTTYPE=text/html:<!DOCTYPE HTML PUBLIC "-//W3C//DTD HTML 3.2//E
 N"><HTML></HTML>
CREATED;TZID=America/Denver:20240122T095339
URL;VALUE=URI:https://flatheadcounty.gov/county-calendar/calendar-event-det
 ail/weedparks-and-recreation-board-meeting-7
DTSTART;TZID=America/Denver:20240205T083000
DTEND;TZID=America/Denver:20240205T100000
SEQUENCE:0
END:VEVENT
END:VCALENDAR
