BEGIN:VCALENDAR
VERSION:2.0
PRODID:-//Sabre//Sabre VObject 4.5.8//EN
CALSCALE:GREGORIAN
BEGIN:VEVENT
UID:sabre-vobject-5197f896-eb50-4090-97f3-6086126dd4bb
DTSTAMP:20260422T094518Z
SUMMARY:Fiber Arts Afternoon
DESCRIPTION:Join other fiber artists and crafters at ImagineIF Bigfork for 
 conversation and company. Bring a knitting\, crocheting\, or stitching pro
 ject to work on.&nbsp\;We will share\, inspire\, and help each other with 
 our projects. All levels welcome\, bring your own supplies.\n
X-ALT-DESC:FMTTYPE=text/html:<!DOCTYPE HTML PUBLIC "-//W3C//DTD HTML 3.2//E
 N"><HTML><p style="margin-bottom:8px"><span style="font-size:11pt"><span s
 tyle="vertical-align:baseline"><span style="font-family:Verdana\,sans-seri
 f"><span style="font-size:10.0pt"><span style="color:#685c53">Join other f
 iber artists and crafters at ImagineIF Bigfork for conversation and compan
 y. Bring a knitting\, crocheting\, or stitching project to work on.&nbsp\;
 We will share\, inspire\, and help each other with our projects. All level
 s welcome\, bring your own supplies.</span></span></span></span></span></p
 >\n</HTML>
CREATED;TZID=America/Denver:20240207T104124
URL;VALUE=URI:https://flatheadcounty.gov/county-calendar/calendar-event-det
 ail/fiber-arts-afternoon
DTSTART;TZID=America/Denver:20240209T160000
DTEND;TZID=America/Denver:20240209T174500
SEQUENCE:0
END:VEVENT
END:VCALENDAR
