BEGIN:VCALENDAR
VERSION:2.0
PRODID:-//Sabre//Sabre VObject 4.5.8//EN
CALSCALE:GREGORIAN
BEGIN:VEVENT
UID:sabre-vobject-006f20b9-9932-45ad-a759-db9000bb15e7
DTSTAMP:20260420T080655Z
SUMMARY:Library Board of Trustees Board Meeting
DESCRIPTION:
X-ALT-DESC:FMTTYPE=text/html:<!DOCTYPE HTML PUBLIC "-//W3C//DTD HTML 3.2//E
 N"><HTML></HTML>
CREATED;TZID=America/Denver:20240215T092318
URL;VALUE=URI:https://flatheadcounty.gov/county-calendar/calendar-event-det
 ail/library-board-trustees-board-meeting-6
DTSTART;TZID=America/Denver:20240222T090000
DTEND;TZID=America/Denver:20240222T120000
SEQUENCE:0
END:VEVENT
END:VCALENDAR
