BEGIN:VCALENDAR
VERSION:2.0
PRODID:-//Sabre//Sabre VObject 4.5.8//EN
CALSCALE:GREGORIAN
BEGIN:VEVENT
UID:sabre-vobject-c2291758-af1f-41b6-b1a2-232acfddb8dc
DTSTAMP:20260420T084148Z
SUMMARY:Montana Sportsman's Expo
DESCRIPTION:Admission: Adults $6.00\, 12 &amp\; under Free\n*Bring in a non
 -perishable food item from $1.00 off admission. Limit $1.00 off per person
 . Donations will go to the NW Montana Veteran&#39\;s Food Pantry.\n\nCash 
 and cards only\,&nbsp\;no&nbsp\;checks. There is an ATM available on site.
 \n
X-ALT-DESC:FMTTYPE=text/html:<!DOCTYPE HTML PUBLIC "-//W3C//DTD HTML 3.2//E
 N"><HTML><p><strong style="font-weight:bold\; color:#626262\; font-family:
 Quattrocento\; font-size:18px\; font-style:normal\; font-variant-ligatures
 :normal\; letter-spacing:0.36px\; text-align:left\; white-space:normal\; b
 ackground-color:#ffffff\; text-decoration-thickness:initial\; text-decorat
 ion-style:initial\; text-decoration-color:initial"><font size="5"><font co
 lor="#2a2a2a">Admission: Adults $6.00\, 12 &amp\; under Free<br />\n*Bring
  in a non-perishable food item from $1.00 off admission. Limit $1.00 off p
 er person. Donations will go to the NW Montana Veteran&#39\;s Food Pantry.
 <br />\n<br />\nCash and cards only\,&nbsp\;<u>no</u>&nbsp\;checks. There 
 is an ATM available on site.</font></font></strong></p>\n</HTML>
CREATED;TZID=America/Denver:20240215T090359
URL;VALUE=URI:https://flatheadcounty.gov/county-calendar/calendar-event-det
 ail/montana-sportsmans-expo
DTSTART;TZID=America/Denver:20240223T110000
DTEND;TZID=America/Denver:20240223T180000
SEQUENCE:0
END:VEVENT
BEGIN:VEVENT
UID:sabre-vobject-cbb07028-5fcf-432d-b700-d2887f19fac3
DTSTAMP:20260420T084148Z
SUMMARY:Montana Sportsman's Expo
DESCRIPTION:Admission: Adults $6.00\, 12 &amp\; under Free\n*Bring in a non
 -perishable food item from $1.00 off admission. Limit $1.00 off per person
 . Donations will go to the NW Montana Veteran&#39\;s Food Pantry.\n\nCash 
 and cards only\,&nbsp\;no&nbsp\;checks. There is an ATM available on site.
 \n
X-ALT-DESC:FMTTYPE=text/html:<!DOCTYPE HTML PUBLIC "-//W3C//DTD HTML 3.2//E
 N"><HTML><p><strong style="font-weight:bold\; color:#626262\; font-family:
 Quattrocento\; font-size:18px\; font-style:normal\; font-variant-ligatures
 :normal\; letter-spacing:0.36px\; text-align:left\; white-space:normal\; b
 ackground-color:#ffffff\; text-decoration-thickness:initial\; text-decorat
 ion-style:initial\; text-decoration-color:initial"><font size="5"><font co
 lor="#2a2a2a">Admission: Adults $6.00\, 12 &amp\; under Free<br />\n*Bring
  in a non-perishable food item from $1.00 off admission. Limit $1.00 off p
 er person. Donations will go to the NW Montana Veteran&#39\;s Food Pantry.
 <br />\n<br />\nCash and cards only\,&nbsp\;<u>no</u>&nbsp\;checks. There 
 is an ATM available on site.</font></font></strong></p>\n</HTML>
CREATED;TZID=America/Denver:20240215T090359
URL;VALUE=URI:https://flatheadcounty.gov/county-calendar/calendar-event-det
 ail/montana-sportsmans-expo
DTSTART;TZID=America/Denver:20240224T100000
DTEND;TZID=America/Denver:20240224T170000
SEQUENCE:1
END:VEVENT
BEGIN:VEVENT
UID:sabre-vobject-9fa78189-332e-4c42-baa4-3149ec8a1521
DTSTAMP:20260420T084148Z
SUMMARY:Montana Sportsman's Expo
DESCRIPTION:Admission: Adults $6.00\, 12 &amp\; under Free\n*Bring in a non
 -perishable food item from $1.00 off admission. Limit $1.00 off per person
 . Donations will go to the NW Montana Veteran&#39\;s Food Pantry.\n\nCash 
 and cards only\,&nbsp\;no&nbsp\;checks. There is an ATM available on site.
 \n
X-ALT-DESC:FMTTYPE=text/html:<!DOCTYPE HTML PUBLIC "-//W3C//DTD HTML 3.2//E
 N"><HTML><p><strong style="font-weight:bold\; color:#626262\; font-family:
 Quattrocento\; font-size:18px\; font-style:normal\; font-variant-ligatures
 :normal\; letter-spacing:0.36px\; text-align:left\; white-space:normal\; b
 ackground-color:#ffffff\; text-decoration-thickness:initial\; text-decorat
 ion-style:initial\; text-decoration-color:initial"><font size="5"><font co
 lor="#2a2a2a">Admission: Adults $6.00\, 12 &amp\; under Free<br />\n*Bring
  in a non-perishable food item from $1.00 off admission. Limit $1.00 off p
 er person. Donations will go to the NW Montana Veteran&#39\;s Food Pantry.
 <br />\n<br />\nCash and cards only\,&nbsp\;<u>no</u>&nbsp\;checks. There 
 is an ATM available on site.</font></font></strong></p>\n</HTML>
CREATED;TZID=America/Denver:20240215T090359
URL;VALUE=URI:https://flatheadcounty.gov/county-calendar/calendar-event-det
 ail/montana-sportsmans-expo
DTSTART;TZID=America/Denver:20240225T100000
DTEND;TZID=America/Denver:20240225T160000
SEQUENCE:2
END:VEVENT
END:VCALENDAR
