BEGIN:VCALENDAR
VERSION:2.0
PRODID:-//Sabre//Sabre VObject 4.5.8//EN
CALSCALE:GREGORIAN
BEGIN:VEVENT
UID:sabre-vobject-12d903a1-1c2b-4302-80a0-91f5d54cb8f4
DTSTAMP:20260420T113418Z
SUMMARY:Flathead Walleyes Banquet
DESCRIPTION:Annual Fundraising Event\nTickets Available at Sportsman&rsquo\
 ;s Ski Haus\, Snappy&rsquo\;s\, Mark Weed Auto\, Pete&rsquo\;s Tackle Shop
  or Any Club Member\nDoors open at 4:30pm\nDinner served at 6pm\nAll you c
 an eat Walleye Dinner\nRaffles\, Silent and Live Auctions\n
X-ALT-DESC:FMTTYPE=text/html:<!DOCTYPE HTML PUBLIC "-//W3C//DTD HTML 3.2//E
 N"><HTML><p><span style="color: rgb(5\, 5\, 5)\; font-family: &quot\;Segoe
  UI Historic&quot\;\, &quot\;Segoe UI&quot\;\, Helvetica\, Arial\, sans-se
 rif\; font-size: 15px\; font-style: normal\; font-variant-ligatures: norma
 l\; font-variant-caps: normal\; font-weight: 400\; letter-spacing: normal\
 ; orphans: 2\; text-align: start\; text-indent: 0px\; text-transform: none
 \; widows: 2\; word-spacing: 0px\; -webkit-text-stroke-width: 0px\; white-
 space: normal\; background-color: rgb(255\, 255\, 255)\; text-decoration-t
 hickness: initial\; text-decoration-style: initial\; text-decoration-color
 : initial\; display: inline !important\; float: none\;">Annual Fundraising
  Event</span><br style="color: rgb(5\, 5\, 5)\; font-family: &quot\;Segoe 
 UI Historic&quot\;\, &quot\;Segoe UI&quot\;\, Helvetica\, Arial\, sans-ser
 if\; font-size: 15px\; font-style: normal\; font-variant-ligatures: normal
 \; font-variant-caps: normal\; font-weight: 400\; letter-spacing: normal\;
  orphans: 2\; text-align: start\; text-indent: 0px\; text-transform: none\
 ; widows: 2\; word-spacing: 0px\; -webkit-text-stroke-width: 0px\; white-s
 pace: normal\; background-color: rgb(255\, 255\, 255)\; text-decoration-th
 ickness: initial\; text-decoration-style: initial\; text-decoration-color:
  initial\;" />\n<span style="color: rgb(5\, 5\, 5)\; font-family: &quot\;S
 egoe UI Historic&quot\;\, &quot\;Segoe UI&quot\;\, Helvetica\, Arial\, san
 s-serif\; font-size: 15px\; font-style: normal\; font-variant-ligatures: n
 ormal\; font-variant-caps: normal\; font-weight: 400\; letter-spacing: nor
 mal\; orphans: 2\; text-align: start\; text-indent: 0px\; text-transform: 
 none\; widows: 2\; word-spacing: 0px\; -webkit-text-stroke-width: 0px\; wh
 ite-space: normal\; background-color: rgb(255\, 255\, 255)\; text-decorati
 on-thickness: initial\; text-decoration-style: initial\; text-decoration-c
 olor: initial\; display: inline !important\; float: none\;">Tickets Availa
 ble at Sportsman&rsquo\;s Ski Haus\, Snappy&rsquo\;s\, Mark Weed Auto\, Pe
 te&rsquo\;s Tackle Shop or Any Club Member</span><br style="color: rgb(5\,
  5\, 5)\; font-family: &quot\;Segoe UI Historic&quot\;\, &quot\;Segoe UI&q
 uot\;\, Helvetica\, Arial\, sans-serif\; font-size: 15px\; font-style: nor
 mal\; font-variant-ligatures: normal\; font-variant-caps: normal\; font-we
 ight: 400\; letter-spacing: normal\; orphans: 2\; text-align: start\; text
 -indent: 0px\; text-transform: none\; widows: 2\; word-spacing: 0px\; -web
 kit-text-stroke-width: 0px\; white-space: normal\; background-color: rgb(2
 55\, 255\, 255)\; text-decoration-thickness: initial\; text-decoration-sty
 le: initial\; text-decoration-color: initial\;" />\n<span style="color: rg
 b(5\, 5\, 5)\; font-family: &quot\;Segoe UI Historic&quot\;\, &quot\;Segoe
  UI&quot\;\, Helvetica\, Arial\, sans-serif\; font-size: 15px\; font-style
 : normal\; font-variant-ligatures: normal\; font-variant-caps: normal\; fo
 nt-weight: 400\; letter-spacing: normal\; orphans: 2\; text-align: start\;
  text-indent: 0px\; text-transform: none\; widows: 2\; word-spacing: 0px\;
  -webkit-text-stroke-width: 0px\; white-space: normal\; background-color: 
 rgb(255\, 255\, 255)\; text-decoration-thickness: initial\; text-decoratio
 n-style: initial\; text-decoration-color: initial\; display: inline !impor
 tant\; float: none\;">Doors open at 4:30pm</span><br style="color: rgb(5\,
  5\, 5)\; font-family: &quot\;Segoe UI Historic&quot\;\, &quot\;Segoe UI&q
 uot\;\, Helvetica\, Arial\, sans-serif\; font-size: 15px\; font-style: nor
 mal\; font-variant-ligatures: normal\; font-variant-caps: normal\; font-we
 ight: 400\; letter-spacing: normal\; orphans: 2\; text-align: start\; text
 -indent: 0px\; text-transform: none\; widows: 2\; word-spacing: 0px\; -web
 kit-text-stroke-width: 0px\; white-space: normal\; background-color: rgb(2
 55\, 255\, 255)\; text-decoration-thickness: initial\; text-decoration-sty
 le: initial\; text-decoration-color: initial\;" />\n<span style="color: rg
 b(5\, 5\, 5)\; font-family: &quot\;Segoe UI Historic&quot\;\, &quot\;Segoe
  UI&quot\;\, Helvetica\, Arial\, sans-serif\; font-size: 15px\; font-style
 : normal\; font-variant-ligatures: normal\; font-variant-caps: normal\; fo
 nt-weight: 400\; letter-spacing: normal\; orphans: 2\; text-align: start\;
  text-indent: 0px\; text-transform: none\; widows: 2\; word-spacing: 0px\;
  -webkit-text-stroke-width: 0px\; white-space: normal\; background-color: 
 rgb(255\, 255\, 255)\; text-decoration-thickness: initial\; text-decoratio
 n-style: initial\; text-decoration-color: initial\; display: inline !impor
 tant\; float: none\;">Dinner served at 6pm</span><br style="color: rgb(5\,
  5\, 5)\; font-family: &quot\;Segoe UI Historic&quot\;\, &quot\;Segoe UI&q
 uot\;\, Helvetica\, Arial\, sans-serif\; font-size: 15px\; font-style: nor
 mal\; font-variant-ligatures: normal\; font-variant-caps: normal\; font-we
 ight: 400\; letter-spacing: normal\; orphans: 2\; text-align: start\; text
 -indent: 0px\; text-transform: none\; widows: 2\; word-spacing: 0px\; -web
 kit-text-stroke-width: 0px\; white-space: normal\; background-color: rgb(2
 55\, 255\, 255)\; text-decoration-thickness: initial\; text-decoration-sty
 le: initial\; text-decoration-color: initial\;" />\n<span style="color: rg
 b(5\, 5\, 5)\; font-family: &quot\;Segoe UI Historic&quot\;\, &quot\;Segoe
  UI&quot\;\, Helvetica\, Arial\, sans-serif\; font-size: 15px\; font-style
 : normal\; font-variant-ligatures: normal\; font-variant-caps: normal\; fo
 nt-weight: 400\; letter-spacing: normal\; orphans: 2\; text-align: start\;
  text-indent: 0px\; text-transform: none\; widows: 2\; word-spacing: 0px\;
  -webkit-text-stroke-width: 0px\; white-space: normal\; background-color: 
 rgb(255\, 255\, 255)\; text-decoration-thickness: initial\; text-decoratio
 n-style: initial\; text-decoration-color: initial\; display: inline !impor
 tant\; float: none\;">All you can eat Walleye Dinner</span><br style="colo
 r: rgb(5\, 5\, 5)\; font-family: &quot\;Segoe UI Historic&quot\;\, &quot\;
 Segoe UI&quot\;\, Helvetica\, Arial\, sans-serif\; font-size: 15px\; font-
 style: normal\; font-variant-ligatures: normal\; font-variant-caps: normal
 \; font-weight: 400\; letter-spacing: normal\; orphans: 2\; text-align: st
 art\; text-indent: 0px\; text-transform: none\; widows: 2\; word-spacing: 
 0px\; -webkit-text-stroke-width: 0px\; white-space: normal\; background-co
 lor: rgb(255\, 255\, 255)\; text-decoration-thickness: initial\; text-deco
 ration-style: initial\; text-decoration-color: initial\;" />\n<span style=
 "color: rgb(5\, 5\, 5)\; font-family: &quot\;Segoe UI Historic&quot\;\, &q
 uot\;Segoe UI&quot\;\, Helvetica\, Arial\, sans-serif\; font-size: 15px\; 
 font-style: normal\; font-variant-ligatures: normal\; font-variant-caps: n
 ormal\; font-weight: 400\; letter-spacing: normal\; orphans: 2\; text-alig
 n: start\; text-indent: 0px\; text-transform: none\; widows: 2\; word-spac
 ing: 0px\; -webkit-text-stroke-width: 0px\; white-space: normal\; backgrou
 nd-color: rgb(255\, 255\, 255)\; text-decoration-thickness: initial\; text
 -decoration-style: initial\; text-decoration-color: initial\; display: inl
 ine !important\; float: none\;">Raffles\, Silent and Live Auctions</span><
 /p>\n</HTML>
CREATED;TZID=America/Denver:20240215T101839
URL;VALUE=URI:https://flatheadcounty.gov/county-calendar/calendar-event-det
 ail/flathead-walleyes-banquet
DTSTART;TZID=America/Denver:20240302T163000
DTEND;TZID=America/Denver:20240302T210000
SEQUENCE:0
END:VEVENT
END:VCALENDAR
