BEGIN:VCALENDAR
VERSION:2.0
PRODID:-//Sabre//Sabre VObject 4.5.8//EN
CALSCALE:GREGORIAN
BEGIN:VEVENT
UID:sabre-vobject-359de274-c7c5-4f2f-b00b-635aaf67120d
DTSTAMP:20260420T113901Z
SUMMARY:Medicare 101
DESCRIPTION:This seminar will help you gain a better understanding of Medic
 are\, whether you&#39\;re currently on Medicare\, about to become eligible
  or you&#39\;re a caregiver for someone who is. Please call 406-758-5730 t
 o reserve your spot.&nbsp\;\n
X-ALT-DESC:FMTTYPE=text/html:<!DOCTYPE HTML PUBLIC "-//W3C//DTD HTML 3.2//E
 N"><HTML><p>This seminar will help you gain a better understanding of Medi
 care\, whether you&#39\;re currently on Medicare\, about to become eligibl
 e or you&#39\;re a caregiver for someone who is. Please call 406-758-5730 
 to reserve your spot.&nbsp\;</p>\n</HTML>
CREATED;TZID=America/Denver:20240221T161630
URL;VALUE=URI:https://flatheadcounty.gov/county-calendar/calendar-event-det
 ail/medicare-101-2
DTSTART;TZID=America/Denver:20240227T130000
DTEND;TZID=America/Denver:20240227T150000
SEQUENCE:0
END:VEVENT
END:VCALENDAR
