BEGIN:VCALENDAR
VERSION:2.0
PRODID:-//Sabre//Sabre VObject 4.5.8//EN
CALSCALE:GREGORIAN
BEGIN:VEVENT
UID:sabre-vobject-67d49c7c-42a4-492f-9990-334f40677de8
DTSTAMP:20260420T113537Z
SUMMARY:Rescheduled - Solid Waste Board Meeting
DESCRIPTION:The Flathead County Solid Waste Board Meeting will be held at 3
  p.m. at the Solid Waste Office.&nbsp\; This meeting was rescheduled to Ma
 rch 19\, 2024.\n
X-ALT-DESC:FMTTYPE=text/html:<!DOCTYPE HTML PUBLIC "-//W3C//DTD HTML 3.2//E
 N"><HTML><p>The Flathead County Solid Waste Board Meeting will be held at 
 3 p.m. at the Solid Waste Office.&nbsp\; This meeting was rescheduled to M
 arch 19\, 2024.</p>\n</HTML>
CREATED;TZID=America/Denver:20240228T095640
URL;VALUE=URI:https://flatheadcounty.gov/county-calendar/calendar-event-det
 ail/rescheduled-solid-waste-board-meeting
DTSTART;TZID=America/Denver:20240326T150000
DTEND;TZID=America/Denver:20240326T160000
SEQUENCE:0
END:VEVENT
END:VCALENDAR
