BEGIN:VCALENDAR
VERSION:2.0
PRODID:-//Sabre//Sabre VObject 4.5.8//EN
CALSCALE:GREGORIAN
BEGIN:VEVENT
UID:sabre-vobject-3e9c92b2-8c62-4a22-a7c7-5fa8862d234c
DTSTAMP:20260420T114152Z
SUMMARY:SOLID WASTE BOARD MEETING
DESCRIPTION:The Flathead County Solid Waste Board Meeting will be held at 3
  p.m. at the Solid Waste Office.&nbsp\; Rescheduled from the March 26th me
 eting.&nbsp\;\n
X-ALT-DESC:FMTTYPE=text/html:<!DOCTYPE HTML PUBLIC "-//W3C//DTD HTML 3.2//E
 N"><HTML><p>The Flathead County Solid Waste Board Meeting will be held at 
 3 p.m. at the Solid Waste Office.&nbsp\; Rescheduled from the March 26th m
 eeting.&nbsp\;</p>\n</HTML>
CREATED;TZID=America/Denver:20240228T100544
URL;VALUE=URI:https://flatheadcounty.gov/county-calendar/calendar-event-det
 ail/solid-waste-board-meeting-5
DTSTART;TZID=America/Denver:20240319T150000
DTEND;TZID=America/Denver:20240319T160000
SEQUENCE:0
END:VEVENT
END:VCALENDAR
