BEGIN:VCALENDAR
VERSION:2.0
PRODID:-//Sabre//Sabre VObject 4.5.8//EN
CALSCALE:GREGORIAN
BEGIN:VEVENT
UID:sabre-vobject-36488a1a-244d-4ff4-8822-4b3ec10dc058
DTSTAMP:20260420T113538Z
SUMMARY:Local Emergency Planning Committee Meeting
DESCRIPTION:Quarterly meeting of the Flathead County Local Emergency Planni
 ng Committee. The meeting will be held in the EOC room at OES. 625 Timberw
 olf Parkway\, Kalispell MT 59901.\n\n&nbsp\;\n\nPlease Note: The Agenda wi
 ll be posted prior to the meeting online\, and agenda items are subject to
  change.&nbsp\; The agenda will be posted no later than 48 hours prior to 
 the meeting.&nbsp\;\n
X-ALT-DESC:FMTTYPE=text/html:<!DOCTYPE HTML PUBLIC "-//W3C//DTD HTML 3.2//E
 N"><HTML><p>Quarterly meeting of the Flathead County Local Emergency Plann
 ing Committee. The meeting will be held in the EOC room at OES. 625 Timber
 wolf Parkway\, Kalispell MT 59901.</p>\n\n<p>&nbsp\;</p>\n\n<p>Please Note
 : The Agenda will be posted prior to the meeting online\, and agenda items
  are subject to change.&nbsp\; The agenda will be posted no later than 48 
 hours prior to the meeting.&nbsp\;</p>\n</HTML>
CREATED;TZID=America/Denver:20240301T154937
URL;VALUE=URI:https://flatheadcounty.gov/county-calendar/calendar-event-det
 ail/lepc-meeting
DTSTART;TZID=America/Denver:20240306T133000
DTEND;TZID=America/Denver:20240306T150000
SEQUENCE:0
END:VEVENT
END:VCALENDAR
