BEGIN:VCALENDAR
VERSION:2.0
PRODID:-//Sabre//Sabre VObject 4.5.8//EN
CALSCALE:GREGORIAN
BEGIN:VEVENT
UID:sabre-vobject-a4f559e9-6fef-4c6e-841c-cdb6d6ea2e75
DTSTAMP:20260420T113553Z
SUMMARY:Medicare 101
DESCRIPTION:This presentation will help you gain a better understanding of 
 Medicare\, whether you&#39\;re currently on Medicare\, you&#39\;re about t
 o become eligible or you&#39\;re a caregiver for someone who is. Located i
 n the South Campus Conference Room\, 40 11th St W\, Kalispell. Call (406) 
 758-2471 to reserve your spot.\n
X-ALT-DESC:FMTTYPE=text/html:<!DOCTYPE HTML PUBLIC "-//W3C//DTD HTML 3.2//E
 N"><HTML><p>This presentation will help you gain a better understanding of
  Medicare\, whether you&#39\;re currently on Medicare\, you&#39\;re about 
 to become eligible or you&#39\;re a caregiver for someone who is. Located 
 in the South Campus Conference Room\, 40 11th St W\, Kalispell. Call (406)
  758-2471 to reserve your spot.</p>\n</HTML>
CREATED;TZID=America/Denver:20240311T145629
URL;VALUE=URI:https://flatheadcounty.gov/county-calendar/calendar-event-det
 ail/medicare-101-3
DTSTART;TZID=America/Denver:20240326T130000
DTEND;TZID=America/Denver:20240326T150000
SEQUENCE:0
END:VEVENT
END:VCALENDAR
