BEGIN:VCALENDAR
VERSION:2.0
PRODID:-//Sabre//Sabre VObject 4.5.8//EN
CALSCALE:GREGORIAN
BEGIN:VEVENT
UID:sabre-vobject-34489ab9-253c-4475-bc30-916814ec550d
DTSTAMP:20260420T113458Z
SUMMARY:FECC Operations Board Meeting
DESCRIPTION:FECC Operations Board Meeting\n
X-ALT-DESC:FMTTYPE=text/html:<!DOCTYPE HTML PUBLIC "-//W3C//DTD HTML 3.2//E
 N"><HTML><p>FECC Operations Board Meeting</p>\n</HTML>
CREATED;TZID=America/Denver:20240318T112222
URL;VALUE=URI:https://flatheadcounty.gov/county-calendar/calendar-event-det
 ail/fecc-operations-board-meeting
DTSTART;TZID=America/Denver:20240321T130000
DTEND;TZID=America/Denver:20240321T140000
SEQUENCE:0
END:VEVENT
END:VCALENDAR
